BEGIN:VCALENDAR
METHOD:PUBLISH
PRODID:-//Weblication CMS
VERSION:2.0
BEGIN:VEVENT
SUMMARY:Pioniere der Dänischen Moderne
DTSTART:20220820T000000
DTEND:20220820T000000
DESCRIPTION:Die Ausstellung «Evolution in Danish Design» im Cité Danzas im französischen Saint-Louis widmet sich der Skandinavischen Moderne und den innovativen Möbelentwürfen vom dänischen Architekturbüro HVIDT & MØLGAARD welche in der Blütezeit der 1940er bis 1960er Jahren in Kopenhagen tätig waren.
LOCATION:
UID:https://www.raum-und-wohnen.ch/ruw/raum-und-wohnen/veranstaltungen/termine/2022_08/daenisches-design.php
URL:https://www.raum-und-wohnen.ch/ruw/raum-und-wohnen/veranstaltungen/termine/2022_08/daenisches-design.php
END:VEVENT
END:VCALENDAR