BEGIN:VCALENDAR
METHOD:PUBLISH
PRODID:-//Weblication CMS
VERSION:2.0
BEGIN:VEVENT
SUMMARY:Angesagte Designtrends
DTSTART:20231117T000000
DTEND:20231119T180000
DESCRIPTION:Für frischen Wind am Zürisee sorgt im November die beliebte Designmesse Blickfang. Rund 180 Designlabels werden das Kongresshaus vom 17. bis 19. November in den grössten Concept Store für unabhängiges Design verwandeln und ein breites Angebot aus den Bereichen Möbel, Mode und Schmuck präsentieren.
LOCATION:
UID:https://www.raum-und-wohnen.ch/ruw/raum-und-wohnen/veranstaltungen/termine/2023_10/blickfang_zuerich_2023.php
URL:https://www.raum-und-wohnen.ch/ruw/raum-und-wohnen/veranstaltungen/termine/2023_10/blickfang_zuerich_2023.php
END:VEVENT
END:VCALENDAR